BEGIN:VCALENDAR
VERSION:2.0
PRODID:-//Future Technologies Venture, LLC - ECPv6.15.14//NONSGML v1.0//EN
CALSCALE:GREGORIAN
METHOD:PUBLISH
X-WR-CALNAME:Future Technologies Venture, LLC
X-ORIGINAL-URL:https://futuretechllc.com
X-WR-CALDESC:Events for Future Technologies Venture, LLC
REFRESH-INTERVAL;VALUE=DURATION:PT1H
X-Robots-Tag:noindex
X-PUBLISHED-TTL:PT1H
BEGIN:VTIMEZONE
TZID:America/New_York
BEGIN:DAYLIGHT
TZOFFSETFROM:-0500
TZOFFSETTO:-0400
TZNAME:EDT
DTSTART:20250309T070000
END:DAYLIGHT
BEGIN:STANDARD
TZOFFSETFROM:-0400
TZOFFSETTO:-0500
TZNAME:EST
DTSTART:20251102T060000
END:STANDARD
BEGIN:DAYLIGHT
TZOFFSETFROM:-0500
TZOFFSETTO:-0400
TZNAME:EDT
DTSTART:20260308T070000
END:DAYLIGHT
BEGIN:STANDARD
TZOFFSETFROM:-0400
TZOFFSETTO:-0500
TZNAME:EST
DTSTART:20261101T060000
END:STANDARD
BEGIN:DAYLIGHT
TZOFFSETFROM:-0500
TZOFFSETTO:-0400
TZNAME:EDT
DTSTART:20270314T070000
END:DAYLIGHT
BEGIN:STANDARD
TZOFFSETFROM:-0400
TZOFFSETTO:-0500
TZNAME:EST
DTSTART:20271107T060000
END:STANDARD
END:VTIMEZONE
BEGIN:VEVENT
DTSTART;TZID=America/New_York:20260421T080000
DTEND;TZID=America/New_York:20260422T170000
DTSTAMP:20260421T124019
CREATED:20260309T155005Z
LAST-MODIFIED:20260309T155005Z
UID:1709-1776758400-1776877200@futuretechllc.com
SUMMARY:Port & Terminal Technology Conference 2026
DESCRIPTION:The container port industry is evolving faster than ever – and our two-day technical conference brings together the thinkers\, innovators\, and leaders shaping what comes next. Hear from world-class speakers who are redefining efficiency\, sustainability\, and technology at ports around the globe. From cutting-edge automation and data integration to decarbonization strategies and operational resilience\, our expert sessions will deliver actionable insights you can take straight back to your terminal. Whether you’re an engineer\, operations manager\, or technology partner\, this is your opportunity to connect with peers\, explore emerging trends\, and gain the competitive edge that only firsthand expertise can provide. This conference is specifically tailored for professionals in operations\, maintenance\, and engineering across a variety of sectors. It attracts representatives from port authorities\, terminal operators\, consultancy firms\, dredging contractors\, maritime construction companies\, consulting engineers\, and suppliers of cargo handling and terminal equipment – essentially anyone involved in the effective development and operation of container ports and terminals worldwide.
URL:https://futuretechllc.com/event/port-terminal-technology-conference-2026/
LOCATION:BWI Airport Marriott\, 1743 West Nursery Rd\, Linthicum Heights\, MD\, 21090\, United States
END:VEVENT
END:VCALENDAR